BEGIN:VCALENDAR
VERSION:2.0
PRODID:-//Library Market//iCal Export//EN
BEGIN:VEVENT
SUMMARY:Get Onboard with Vision Boarding
UID:47241
DTSTAMP:20260423T224700Z
DTSTART:20260516T190000Z
DTEND:20260516T210000Z
LOCATION:8457 Trinity Rd., Memphis, TN 38018, United States
ROOM: Large Meeting Room (COR)
DESCRIPTION:What did you want to do when you grew up? Did you even want to
  grow up? If you&#039;re like most of us, maybe you still haven&#039;t fig
 ured it out, and that&#039;s okay! Join us at Cordova Branch Library&#039;
 s Vision Board Party on Saturday, May 16 at 1:30. Supplies are provided bu
 t you must bring your own scissors and your own creative imagination. Map 
 out your future, your dreams, and ideas to figure your next steps in life.
  We will be in Room A, and we will see you there.This project is for 18 an
 d older, please.
URL:https://memphis.librarycalendar.com/event/get-onboard-vision-boarding-
 47241
END:VEVENT
END:VCALENDAR
