BEGIN:VCALENDAR
VERSION:2.0
PRODID:-//Library Market//iCal Export//EN
BEGIN:VEVENT
SUMMARY:Game Day for Teens
UID:47185
DTSTAMP:20260425T015700Z
DTSTART:20260716T190000Z
DTEND:20260716T200000Z
LOCATION:1192 Vollintine Ave., Memphis, TN 38107, United States
ROOM: Meeting Room (NOR)
DESCRIPTION: If you are looking for a place to hang out with old friends,
  make new friends, get rid of stress, and being a part of a team, you are 
 encouraged to participate in game activities at the North Library. At the 
 very least, you will be surprised at how much fun teenagers can have at th
 e library. 
URL:https://memphis.librarycalendar.com/event/game-day-teens-47185
END:VEVENT
END:VCALENDAR
