BEGIN:VCALENDAR
VERSION:2.0
PRODID:-//Library Market//iCal Export//EN
BEGIN:VEVENT
SUMMARY:Storytime
UID:47153
DTSTAMP:20260423T204500Z
DTSTART:20260728T153000Z
DTEND:20260728T163000Z
LOCATION:4655 Knight Arnold Rd., Memphis, TN 38118, United States
ROOM: Storytime
DESCRIPTION:
URL:https://memphis.librarycalendar.com/event/storytime-47153
END:VEVENT
END:VCALENDAR
