BEGIN:VCALENDAR
VERSION:2.0
PRODID:-//Library Market//iCal Export//EN
BEGIN:VEVENT
SUMMARY:Storytime
UID:47150
DTSTAMP:20260423T071400Z
DTSTART:20260609T153000Z
DTEND:20260609T163000Z
LOCATION:4655 Knight Arnold Rd., Memphis, TN 38118, United States
ROOM: Storytime
DESCRIPTION:
URL:https://memphis.librarycalendar.com/event/storytime-47150
END:VEVENT
END:VCALENDAR
