BEGIN:VCALENDAR
VERSION:2.0
PRODID:-//Library Market//iCal Export//EN
BEGIN:VEVENT
SUMMARY:Summer at the Movies
UID:47129
DTSTAMP:20260423T205500Z
DTSTART:20260612T180000Z
DTEND:20260612T194500Z
LOCATION:2220 James Rd., Memphis, TN 38127, United States
ROOM: Meeting Room A (FRA)
DESCRIPTION:Join us at the library every Friday in June for a fun-filled S
 ummer at the Movies series, perfect for children of all ages and their fam
 ilies! Sit back and enjoy the beloved Ice Age movie series, filled with la
 ughter, adventure, and unforgettable characters.
URL:https://memphis.librarycalendar.com/event/summer-movies-47129
END:VEVENT
END:VCALENDAR
