BEGIN:VCALENDAR
VERSION:2.0
PRODID:-//Library Market//iCal Export//EN
BEGIN:VEVENT
SUMMARY:USPS Hiring Event
UID:47120
DTSTAMP:20260421T165900Z
DTSTART:20260423T150000Z
DTEND:20260423T180000Z
LOCATION:531 Vance Ave., Memphis, TN 38126, United States
ROOM: Meeting Room (CRE)
DESCRIPTION:UNITED STATES POSTAL SERVICEVEHICLE MAINTENANCE HIRING EVENT 
 Thursday, April 23rd, 202610:00AM – 1:00 PMCornelia Crenshaw Memorial Li
 brary531 Vance Ave., Memphis TN 38126Go to https://usps.com/careersWhy wor
 k for the USPS?• We are the employer of choice• Solid Pay and the pote
 ntial to builda long-lasting career• Benefits include Health, Dental &am
 p;Vision Insurance you may enroll inimmediately• TSP (Similar to 401k) a
 nd contributions towards retirement.
URL:https://memphis.librarycalendar.com/event/usps-hiring-event-47120
END:VEVENT
END:VCALENDAR
