BEGIN:VCALENDAR
VERSION:2.0
PRODID:-//Library Market//iCal Export//EN
BEGIN:VEVENT
SUMMARY:Let&#039;s Play: Mancala
UID:47117
DTSTAMP:20260423T103900Z
DTSTART:20260724T190000Z
DTEND:20260724T200000Z
LOCATION:5094 Poplar Ave., Memphis, TN 38117, United States
ROOM: Meeting Room (OGR)
DESCRIPTION:Join us at the library to play a childhood favorite - Mancala!
  New to the game or a little out of practice? No worries, we will provide 
 an overview on the ways to play!
URL:https://memphis.librarycalendar.com/event/lets-play-mancala-47117
END:VEVENT
END:VCALENDAR
