BEGIN:VCALENDAR
VERSION:2.0
PRODID:-//Library Market//iCal Export//EN
BEGIN:VEVENT
SUMMARY:Dial A Decade - Throwback Breakfast
UID:47075
DTSTAMP:20260425T140000Z
DTSTART:20260716T153000Z
DTEND:20260716T163000Z
LOCATION:5094 Poplar Ave., Memphis, TN 38117, United States
ROOM: Meeting Room (OGR)
DESCRIPTION:Teens, join us for our favorite cereal and our favorite vintag
 e cartoons!We will spin the wheel of decades to determine what cartoons we
  watch! Might even get to make fun of old commercials while we&#039;re at 
 it!Every Thursday, 10:30-11:30. From June 11th - July 16th. 
URL:https://memphis.librarycalendar.com/event/dial-decade-throwback-breakf
 ast-47075
END:VEVENT
END:VCALENDAR
