BEGIN:VCALENDAR
VERSION:2.0
PRODID:-//Library Market//iCal Export//EN
BEGIN:VEVENT
SUMMARY:Computer Basics
UID:47067
DTSTAMP:20260423T224700Z
DTSTART:20260721T153000Z
DTEND:20260721T163000Z
LOCATION:2220 James Rd., Memphis, TN 38127, United States
ROOM: Main Floor
DESCRIPTION:New to computers or just need a quick refresher? Join us at th
 e Frayser Branch Library for our Computer Basics workshop. This session o
 ffers a clear, step-by-step guide to understanding hardware, mastering the
  desktop, and navigating your system with confidence.
URL:https://memphis.librarycalendar.com/event/computer-basics-47067
END:VEVENT
END:VCALENDAR
