BEGIN:VCALENDAR
VERSION:2.0
PRODID:-//Library Market//iCal Export//EN
BEGIN:VEVENT
SUMMARY:It&#039;s Putt-putt at the Library!
UID:47024
DTSTAMP:20260421T165900Z
DTSTART:20260523T160000Z
DTEND:20260523T170000Z
LOCATION:8457 Trinity Rd., Memphis, TN 38018, United States
ROOM: Library Outdoor Grounds (COR)
DESCRIPTION:Come to the Cordova Branch Library for Putt-putt at the Librar
 y.Play mini-golf outside at the library.For all ages and no registration i
 s needed.
URL:https://memphis.librarycalendar.com/event/its-putt-putt-library-47024
END:VEVENT
END:VCALENDAR
