BEGIN:VCALENDAR
VERSION:2.0
PRODID:-//Library Market//iCal Export//EN
BEGIN:VEVENT
SUMMARY:Storytime
UID:47016
DTSTAMP:20260421T110900Z
DTSTART:20260520T160000Z
DTEND:20260520T164500Z
LOCATION:8457 Trinity Rd., Memphis, TN 38018, United States
ROOM: Story Time Room
DESCRIPTION:Come to the Cordova Library for Storytime.  Share stories and
  songs and crafts!This week - Pets, Pets, Pets!No registration is necessar
 y.
URL:https://memphis.librarycalendar.com/event/storytime-47016
END:VEVENT
END:VCALENDAR
