BEGIN:VCALENDAR
VERSION:2.0
PRODID:-//Library Market//iCal Export//EN
BEGIN:VEVENT
SUMMARY:Storytime
UID:47014
DTSTAMP:20260422T021400Z
DTSTART:20260513T160000Z
DTEND:20260513T164500Z
LOCATION:8457 Trinity Rd., Memphis, TN 38018, United States
ROOM: Story Time Room
DESCRIPTION:Come to the Cordova Library for Storytime.  Share stories and
  songs and crafts!This week - Animals at the ZooNo registration is necessa
 ry.
URL:https://memphis.librarycalendar.com/event/storytime-47014
END:VEVENT
END:VCALENDAR
