BEGIN:VCALENDAR
VERSION:2.0
PRODID:-//Library Market//iCal Export//EN
BEGIN:VEVENT
SUMMARY:Creative Aging/ Clay Wind Chimes
UID:46987
DTSTAMP:20260419T141400Z
DTSTART:20260520T180000Z
DTEND:20260520T200000Z
LOCATION:1929 S. Third St., Memphis, TN 38109, United States
ROOM: Meeting Room (SOU)
DESCRIPTION:Creative Aging presents Clay Wind Chimes!! Come join the teach
 ing instructor Debbie Lovett for a 3-week introduction to clay. The partic
 ipants will create glazed original pieces of pottery then assemble them wi
 th wire, strings and various supplies to create original wind chimes.
URL:https://memphis.librarycalendar.com/event/creative-aging-clay-wind-chi
 mes-46987
END:VEVENT
END:VCALENDAR
