BEGIN:VCALENDAR
VERSION:2.0
PRODID:-//Library Market//iCal Export//EN
BEGIN:VEVENT
SUMMARY:Story Time
UID:46984
DTSTAMP:20260423T103900Z
DTSTART:20260722T153000Z
DTEND:20260722T163000Z
LOCATION:3300 Sharpe Ave., Memphis, TN 38111, United States
ROOM: Story Time
DESCRIPTION:Come join us for the Dog Days of Summer story time! You&#039;l
 l hear dog stories and do a dog themed craft and songs.
URL:https://memphis.librarycalendar.com/event/story-time-46984
END:VEVENT
END:VCALENDAR
