BEGIN:VCALENDAR
VERSION:2.0
PRODID:-//Library Market//iCal Export//EN
BEGIN:VEVENT
SUMMARY:Building with Fort Boards
UID:46937
DTSTAMP:20260423T205500Z
DTSTART:20260611T200000Z
DTEND:20260611T210000Z
LOCATION:3300 Sharpe Ave., Memphis, TN 38111, United States
ROOM: Building with Fort Boards
DESCRIPTION:Fort boards are plastic panels you can use to build a multitud
 e of things! Towers, cars, castles, playhouses.  Come learn to build with
  them!
URL:https://memphis.librarycalendar.com/event/building-fort-boards-46937
END:VEVENT
END:VCALENDAR
