BEGIN:VCALENDAR
VERSION:2.0
PRODID:-//Library Market//iCal Export//EN
BEGIN:VEVENT
SUMMARY:Game Day for Teens
UID:46785
DTSTAMP:20260421T095900Z
DTSTART:20260513T210000Z
DTEND:20260513T220000Z
LOCATION:1192 Vollintine Ave., Memphis, TN 38107, United States
ROOM: Meeting Room (NOR)
DESCRIPTION:If you are looking for a place to hang out with old friends ,m
 ake new friends, get rid of stress, and being a part of a team, you are en
 couraged to participate in game activities at the North Library. At the ve
 ry least, you will be surprised at how much fun teenagers can have at the 
 library. 
URL:https://memphis.librarycalendar.com/event/game-day-teens-46785
END:VEVENT
END:VCALENDAR
