BEGIN:VCALENDAR
VERSION:2.0
PRODID:-//Library Market//iCal Export//EN
BEGIN:VEVENT
SUMMARY:Branching Out: Hypertufa Workshop
UID:46305
DTSTAMP:20260426T041500Z
DTSTART:20260630T210000Z
DTEND:20260630T223000Z
LOCATION:2220 James Rd., Memphis, TN 38127, United States
ROOM: Library Outdoor Grounds (FRA)
DESCRIPTION:Get your hands dirty and create a unique, rustic planter for y
 our garden! In this hands-on workshop, we’ll learn how to mix and mold h
 ypertufa, a lightweight, breathable stone substitute made from cement, pea
 t moss, and perlite.Note: Please wear old clothes or an apron, as this pro
 cess can get messy! All materials are provided.
URL:https://memphis.librarycalendar.com/event/branching-out-hypertufa-work
 shop-46305
END:VEVENT
END:VCALENDAR
