BEGIN:VCALENDAR
VERSION:2.0
PRODID:-//Library Market//iCal Export//EN
BEGIN:VEVENT
SUMMARY:Art Lab: Teen Coaster Design
UID:46296
DTSTAMP:20260423T204500Z
DTSTART:20260729T190000Z
DTEND:20260729T201500Z
LOCATION:2220 James Rd., Memphis, TN 38127, United States
ROOM: Meeting Room B (FRA)
DESCRIPTION:Get ready to tap into your creativity in this exciting, art-fi
 lled workshop! Teens will have the chance to design their very own coaster
 . Come experiment with color, express your style and walk away with a cust
 om piece you can use.
URL:https://memphis.librarycalendar.com/event/teen-programming-block-46296
END:VEVENT
END:VCALENDAR
