BEGIN:VCALENDAR
VERSION:2.0
PRODID:-//Library Market//iCal Export//EN
BEGIN:VEVENT
SUMMARY:Teenflix Friday
UID:46294
DTSTAMP:20260423T224700Z
DTSTART:20260724T190000Z
DTEND:20260724T210000Z
LOCATION:2220 James Rd., Memphis, TN 38127, United States
ROOM: Teen Area
DESCRIPTION:Join us for a special Teenflix Friday as we screen a classic f
 antasy-comedy film about a cartoon rabbit who is framed for a crime he did
  not commit. With the help of a human detective, he must find a way to pro
 ve his innocence. Expect laughs, twists and plenty of surprises.
URL:https://memphis.librarycalendar.com/event/teen-programming-block-46294
END:VEVENT
END:VCALENDAR
