BEGIN:VCALENDAR
VERSION:2.0
PRODID:-//Library Market//iCal Export//EN
BEGIN:VEVENT
SUMMARY:Unearth Coloring Sheets
UID:46292
DTSTAMP:20260423T071400Z
DTSTART:20260708T170000Z
DTEND:20260708T180000Z
LOCATION:1040 S. Third St., Memphis, TN 38106, United States
ROOM: Unearth Coloring Sheets
DESCRIPTION:Children will have a fun filled day to color unearth pictures.
URL:https://memphis.librarycalendar.com/event/unearth-coloring-sheets-4629
 2
END:VEVENT
END:VCALENDAR
