BEGIN:VCALENDAR
VERSION:2.0
PRODID:-//Library Market//iCal Export//EN
BEGIN:VEVENT
SUMMARY:FreePlay @ the Library
UID:45526
DTSTAMP:20260423T103900Z
DTSTART:20260627T193000Z
DTEND:20260627T210000Z
LOCATION:5094 Poplar Ave., Memphis, TN 38117, United States
ROOM: Meeting Room (OGR)
DESCRIPTION:Spend your Saturday at the library! Bring your favorite tradin
 g cards or board games so you can make new friends, learn new games, and h
 ave a blast! Games also provided by the library.
URL:https://memphis.librarycalendar.com/event/freeplay-library-45526
END:VEVENT
END:VCALENDAR
