BEGIN:VCALENDAR
VERSION:2.0
PRODID:-//Library Market//iCal Export//EN
BEGIN:VEVENT
SUMMARY:Heart of 901: Filming Basics
UID:45505
DTSTAMP:20260421T064400Z
DTSTART:20260331T210000Z
DTEND:20260331T220000Z
LOCATION:3030 Poplar Ave., Memphis, TN 38111, United States
ROOM: Video Production Lab
DESCRIPTION: Heart of 901 is a hands-on video production project where te
 ens highlight their favorite hangout spots around Memphis. Participants wi
 ll film on location and create social media-ready videos. Completed projec
 ts will be shared with teens across Shelby County. Visit https://www.memph
 islibrary.org/heart-of-901/ for more information!During Heart of 901: Film
  Basics, teens will meet at the CLOUD901 Video Lab to build skills in came
 ra functions, filming techniques, using and video editing software such as
  Adobe Premiere Pro or Capcut. Teens have access to Video Lab equipment an
 d editing software for free in CLOUD901. 
URL:https://memphis.librarycalendar.com/event/heart-901-filming-basics-455
 05
END:VEVENT
END:VCALENDAR
