BEGIN:VCALENDAR
VERSION:2.0
PRODID:-//Library Market//iCal Export//EN
BEGIN:VEVENT
SUMMARY:Are you Puzzled?
UID:45143
DTSTAMP:20260423T071400Z
DTSTART:20260610T170000Z
DTEND:20260610T180000Z
LOCATION:1040 S. Third St., Memphis, TN 38106, United States
ROOM: Children&#039;s Area (GPK)
DESCRIPTION:The children will use their problem solving skills to masterfu
 lly put together the puzzle of their choosing.  This project will work wi
 th their recognition of patterns and shapes to succeed at a fun challenge 
 with others.
URL:https://memphis.librarycalendar.com/event/are-you-puzzled-45143
END:VEVENT
END:VCALENDAR
