BEGIN:VCALENDAR
VERSION:2.0
PRODID:-//Library Market//iCal Export//EN
BEGIN:VEVENT
SUMMARY:Sidewalk Chalk
UID:45140
DTSTAMP:20260425T140000Z
DTSTART:20260603T160000Z
DTEND:20260603T170000Z
LOCATION:1040 S. Third St., Memphis, TN 38106, United States
ROOM: Library Outdoor Grounds (GPK)
DESCRIPTION:The children will engage in drawing and writing with colorful 
 chalk to enhance creativity, motor skills, outdoor play and socialization 
 for a fun time.
URL:https://memphis.librarycalendar.com/event/sidewalk-chalk-45140
END:VEVENT
END:VCALENDAR
