BEGIN:VCALENDAR
VERSION:2.0
PRODID:-//Library Market//iCal Export//EN
BEGIN:VEVENT
SUMMARY:Like Really Creative CHARGED UP: Sound Meditation + Collaborative 
 Poetry Workshop with Marcella Simien
UID:45010
DTSTAMP:20260421T110900Z
DTSTART:20260613T190000Z
DTEND:20260613T210000Z
LOCATION:2220 James Rd., Memphis, TN 38127, United States
ROOM: Meeting Room A &amp; B (FRA)
DESCRIPTION:For this special event from Like Really Creative, attendees wi
 ll come together to create a collaborative community poem.The program will
  be hosted by musician and yoga instructor Marcella Simien, daughter of Gr
 ammy Award–winning artist Terrance Simien. Participants will begin with 
 a guided meditation that explores and plays with different sounds.They wil
 l then write poetry, lyrics, associations, or reflections inspired by what
  they hear. Afterwards, the group will share their writing and weave it to
 gether into a single collaborative community poem.Memphis artist Zack Orsb
 orn founded the arts organization Like Really Creative in February 2025, c
 ultivating a growing creative community that has attracted nearly 7,000 so
 cial media followers. The organization has hosted up to 100 participants a
 t its popular monthly collage parties, along with events focused on junk j
 ournaling, community walks, artist speed-dating for creative partnerships,
  collective improv music jams, and more.
URL:https://memphis.librarycalendar.com/event/teenadult-programming-45010
END:VEVENT
END:VCALENDAR
