BEGIN:VCALENDAR
VERSION:2.0
PRODID:-//Library Market//iCal Export//EN
BEGIN:VEVENT
SUMMARY:Cooking in the Kitchen With Tweens: Lesson 6
UID:43767
DTSTAMP:20260426T041500Z
DTSTART:20260707T190000Z
DTEND:20260707T203000Z
LOCATION:2220 James Rd., Memphis, TN 38127, United States
ROOM: Meeting Room B (FRA)
DESCRIPTION:&quot;Now You&#039;re Cooking: Fast Food at Home.&quot;  Part
 icipants will review food and kitchen safety practices, practice proper wa
 y to test doneness, combine a variety of food groups, table setting practi
 ce, make an easy/fast meal to share.  Participants who complete all six l
 essons will receive a completion certificates.  
URL:https://memphis.librarycalendar.com/event/cooking-kitchen-children-437
 67
END:VEVENT
END:VCALENDAR
