BEGIN:VCALENDAR
VERSION:2.0
PRODID:-//Library Market//iCal Export//EN
BEGIN:VEVENT
SUMMARY:Adventures in the Kitchen With Tweens: Lesson 1
UID:43765
DTSTAMP:20260421T220300Z
DTSTART:20260602T190000Z
DTEND:20260602T203000Z
LOCATION:2220 James Rd., Memphis, TN 38127, United States
ROOM: Meeting Room B (FRA)
DESCRIPTION:Welcome to &quot;Adventures In Cooking&quot; Lesson 1.  This 
 is an introduction to cooking and safe practices in the kitchen with a foc
 us on team work.  Children will learn about a resource for planning healt
 h food choices.  In addition, they will learn to measure dry and liquid i
 ngredients and to prepare a quick snack.  Registration is required and ch
 ildren must be accompanied by a parent or guardian. 
URL:https://memphis.librarycalendar.com/event/cooking-kitchen-43765
END:VEVENT
END:VCALENDAR
