BEGIN:VCALENDAR
VERSION:2.0
PRODID:-//Library Market//iCal Export//EN
BEGIN:VEVENT
SUMMARY:Chair Yoga
UID:42951
DTSTAMP:20260420T191900Z
DTSTART:20260627T160000Z
DTEND:20260627T170000Z
LOCATION:5094 Poplar Ave., Memphis, TN 38117, United States
ROOM: Meeting Room (OGR)
DESCRIPTION:Do you enjoy light exercise? If so, this is perfect for you. C
 hair yoga is great for seniors and those with minimal mobility.  
URL:https://memphis.librarycalendar.com/event/chair-yoga-42951
END:VEVENT
END:VCALENDAR
