BEGIN:VCALENDAR
VERSION:2.0
PRODID:-//Library Market//iCal Export//EN
BEGIN:VEVENT
SUMMARY:Art to Grow With Dixon Gallery
UID:42832
DTSTAMP:20260419T185100Z
DTSTART:20260611T190000Z
DTEND:20260611T200000Z
LOCATION:2220 James Rd., Memphis, TN 38127, United States
ROOM: Meeting Room B (FRA)
DESCRIPTION:Children will be introduced to art, providing them with the op
 portunity explore their creative talents with all things Dixon.
URL:https://memphis.librarycalendar.com/event/childrens-programming-block-
 42832
END:VEVENT
END:VCALENDAR
