BEGIN:VCALENDAR
VERSION:2.0
PRODID:-//Library Market//iCal Export//EN
BEGIN:VEVENT
SUMMARY:Adventures in the Kitchen With Tweens: Lesson 2
UID:42831
DTSTAMP:20260423T071400Z
DTSTART:20260609T190000Z
DTEND:20260609T203000Z
LOCATION:2220 James Rd., Memphis, TN 38127, United States
ROOM: Meeting Room B (FRA)
DESCRIPTION:This lesson focuses on “Fast Foods: Fruits for Snacks,&quot;
  including how-two recipes, knife safety, slicing fruits, importance of re
 frigeration for food safety, and making a healthy.
URL:https://memphis.librarycalendar.com/event/childrens-programming-block-
 42831
END:VEVENT
END:VCALENDAR
